BEGIN:VCALENDAR
VERSION:2.0
PRODID:-//wp-events-plugin.com//7.2.3.1//EN
TZID:Europe/Paris
X-WR-TIMEZONE:Europe/Paris
BEGIN:VEVENT
UID:212@labriquedetoulouse.fr
DTSTART;TZID=Europe/Paris:20221210T163000
DTEND;TZID=Europe/Paris:20221210T170000
DTSTAMP:20221129T085539Z
URL:https://labriquedetoulouse.fr/events/spectacle-pour-les-enfants/
SUMMARY:Spectacle pour les enfants
DESCRIPTION:Un spectacle plein d'histoires improvisées et interactives pou
 r les enfants de 4 à 10 ans.
ATTACH;FMTTYPE=image/jpeg:https://labriquedetoulouse.fr/wp-content/uploads
 /2022/11/enfants.jpeg
CATEGORIES:Cabaret,Concept
LOCATION:Centre Culturel Lalande\, 239 Avenue de Fronton\, Toulouse\, 31200
 \, France
GEO:43.648577;1.431887
X-APPLE-STRUCTURED-LOCATION;VALUE=URI;X-ADDRESS=239 Avenue de Fronton\, Tou
 louse\, 31200\, France;X-APPLE-RADIUS=100;X-TITLE=Centre Culturel Lalande:
 geo:43.648577,1.431887
END:VEVENT
BEGIN:VTIMEZONE
TZID:Europe/Paris
X-LIC-LOCATION:Europe/Paris
BEGIN:STANDARD
DTSTART:20221030T020000
TZOFFSETFROM:+0200
TZOFFSETTO:+0100
TZNAME:CET
END:STANDARD
END:VTIMEZONE
END:VCALENDAR