BEGIN:VCALENDAR
VERSION:2.0
PRODID:-//wp-events-plugin.com//7.2.3.1//EN
TZID:Europe/Paris
X-WR-TIMEZONE:Europe/Paris
BEGIN:VEVENT
UID:66@labriquedetoulouse.fr
DTSTART:20180217T193000Z
DTEND:20180217T213000Z
DTSTAMP:20180130T174852Z
URL:https://labriquedetoulouse.fr/events/match-la-brique-de-toulouse-vs-la
 -lip-de-paris-a-paris/
SUMMARY:Match La Brique de Toulouse Vs. la LIP de Paris...à Paris
DESCRIPTION:Vous n'avez rien prévu le week-end du 17 février ? Vous avez 
 toujours rêvé de découvrir l'exotisme Parisien ?\nÇa tombe bien\, on v
 ous invite à Paris le samedi 17 février pour y voir un fabuleux match d'
 improvisation !
CATEGORIES:Match
LOCATION:Théâtre de Ménilmontant\, 15 rue du retrait\, Paris\, 75020 \, 
 France
GEO:48.8682266;2.394762700000001
X-APPLE-STRUCTURED-LOCATION;VALUE=URI;X-ADDRESS=15 rue du retrait\, Paris\,
  75020 \, France;X-APPLE-RADIUS=100;X-TITLE=Théâtre de Ménilmontant:geo
 :48.8682266,2.394762700000001
END:VEVENT
END:VCALENDAR