BEGIN:VCALENDAR
VERSION:2.0
PRODID:-//wp-events-plugin.com//7.2.3.1//EN
TZID:Europe/Paris
X-WR-TIMEZONE:Europe/Paris
BEGIN:VEVENT
UID:112@labriquedetoulouse.fr
DTSTART:20200125T110000Z
DTEND:20200125T230000Z
DTSTAMP:20200103T211548Z
URL:https://labriquedetoulouse.fr/events/festival-les-12h-de-limpro-2/
SUMMARY:Festival Les 12h de l’Impro
DESCRIPTION:Comme chaque année\, nos amis de La Bulle Carrée nous inviten
 t à leur festival "Les 12h de l'impro".\nNous jouons les premiers\, à 12
 h (session 1)! Voici tout le programme et toutes les infos :\n\nLa billett
 erie pour le festival c'est ici !\n\nFestival Les 12h de l’Impro – 5è
 me édition\n\n\n12 des meilleurs spectacles d’improvisation de Toulouse
  et d’ailleurs !\nPour sa cinquième édition\, ce marathon de l’impr
 o qui se tiendra le samedi 25 janvier de midi à minuit accueillera des tr
 oupes de Pau\, Toulouse\, Paris\, Lyon etc.\n\nà l’Espace Job\n105 rout
 e de Blagnac\, Toulouse (quartier Sept Deniers)\nbus Linéo 1\, arrêt Sol
 eil d’Or\, depuis Métro Jean-Jaurès ou Compans Caffarelli / parking pa
 yant la journée\n\nde 12h à 00h\n\n\n12h – 15h : 9€* / 12€**\n15h 
 – 18h : 12€* / 15€**\n18h – 21h : 15€* / 20€**\n21h – 00h : 
 15€* / 20€**\n12h – 00h : 30€* / 40€**\n\nTarif 1 spectacle : 7
 € (uniquement sur place)\n\n*en prévente (+ frais de billetterie) / **s
 ur place\n\n[restauration sur place possible]\n\nProgrammation :\n\n 	12h-
 13h : « Portes » – La Brique\n 	13h-14h : « Games of Job » – 
 Les Oxymores\n 	14h-15h : « Le barijadis d’impro » – Les Camay’s
  Léon (Mazères)\n 	15h-16h : « Extra-ordinaire » – La Page Blanch
 e\n 	16h-17h : « Métro\, Boulot\, Impro » – Melting Pot\n 	17h-18h
  : « Contes et Souvenirs » – La Boîte à Idées (Pau)\n 	18h-19h 
 : « Trois » – La Bulle Carrée\n 	19h-20h : « Mes voix et moi »
  – L’Improviconteuse (Paris)\n 	20h-21h : « Rencontrons-nous » 
 – les Nougats Roses\n 	21h-22h : « Feydeau &amp\; Co » – Les Sino
 cs\n 	22h-23h : « L’endroit » – Péroline Drevon (Lyon)\n 	23h-0
 0h : « HA » – Dirlida\n\n
CATEGORIES:Evènements
END:VEVENT
END:VCALENDAR