BEGIN:VCALENDAR
VERSION:2.0
PRODID:-//wp-events-plugin.com//7.2.3.1//EN
TZID:Europe/Paris
X-WR-TIMEZONE:Europe/Paris
BEGIN:VEVENT
UID:224@labriquedetoulouse.fr
DTSTART;TZID=Europe/Paris:20230221T210000
DTEND;TZID=Europe/Paris:20230221T230000
DTSTAMP:20230125T170325Z
URL:https://labriquedetoulouse.fr/events/cabaret-dimpro-au-ministere-des-b
 rasseurs-2/
SUMMARY:Cabaret d'Impro au Ministère des Brasseurs
DESCRIPTION: La Brique revient au Ministère des Brasseurs pour présenter 
 son Cabaret d'Impro ! Et on espère vous y retrouver !!!\n Mais qu'est-ce 
 qu'un cabaret ?\nPrenez une poignée de comédiens  étonnants et parfois 
 un peu fêlés \, qui improvisera sur vos thèmes. Oui\, les tiens\, Publi
 c\, que tu auras discrètement glissé à notre Maitre de Cérémonie  qui
  vous accompagnera dans cette folle soirée.\n Bonne humeur\, fous-rires e
 t émotions au programme !\n Tarif : au chapeau 
ATTACH;FMTTYPE=image/jpeg:https://labriquedetoulouse.fr/wp-content/uploads
 /2023/01/320107297_1866648097025315_514928180981611199_n.jpg
CATEGORIES:Cabaret
LOCATION:Ministère des Brasseurs\, 11 rue Humbert Tomatis\, TOULOUSE\, Fra
 nce
GEO:43.621979;1.423932
X-APPLE-STRUCTURED-LOCATION;VALUE=URI;X-ADDRESS=11 rue Humbert Tomatis\, TO
 ULOUSE\, France;X-APPLE-RADIUS=100;X-TITLE=Ministère des Brasseurs:geo:43
 .621979,1.423932
END:VEVENT
BEGIN:VTIMEZONE
TZID:Europe/Paris
X-LIC-LOCATION:Europe/Paris
BEGIN:STANDARD
DTSTART:20221030T020000
TZOFFSETFROM:+0200
TZOFFSETTO:+0100
TZNAME:CET
END:STANDARD
END:VTIMEZONE
END:VCALENDAR